BEGIN:VCALENDAR
VERSION:2.0
PRODID:-//wp-events-plugin.com//7.0.4//EN
TZID:Asia/Jerusalem
X-WR-TIMEZONE:Asia/Jerusalem
BEGIN:VEVENT
UID:118@ispho.org.il
DTSTART;TZID=Asia/Jerusalem:20260429T140000
DTEND;TZID=Asia/Jerusalem:20260429T160000
DTSTAMP:20260409T113301Z
URL:https://www.ispho.org.il/events/%d7%9c%d7%99%d7%9e%d7%a4%d7%95%d7%9e%d
 7%94-%d7%94%d7%a8%d7%99/
SUMMARY:לימפומה - הר"י - נדחה (מועד חדש יפורסם 
 בקרוב)
DESCRIPTION:\n\n\n\n\n\n\n\n\n\nהי לכולם\,\n\nנאלצת לדחות 
 את ישיבת הלימפומה שתוכננה ל29.4.\n\nמועד חלו
 פי יישלח בקרוב. ככל הנראה נפגש בזום לאור 
 המצב.\n\nחגים שמחים ושקטים לכולם.\n\nעדי\n\n\n\
 n\n\n\n\n\n\n\n
CATEGORIES:לימפומות
LOCATION:הר"י\, ז'בוטינסקי 35\, רמת גן\, ישראל\, 5251
 108\, Israel
X-APPLE-STRUCTURED-LOCATION;VALUE=URI;X-ADDRESS=ז'בוטינסקי 35\, ר
 מת גן\, ישראל\, 5251108\, Israel;X-APPLE-RADIUS=100;X-TITLE=הר\
 "י:geo:0,0
END:VEVENT
BEGIN:VTIMEZONE
TZID:Asia/Jerusalem
X-LIC-LOCATION:Asia/Jerusalem
BEGIN:DAYLIGHT
DTSTART:20260327T030000
TZOFFSETFROM:+0200
TZOFFSETTO:+0300
TZNAME:IDT
END:DAYLIGHT
END:VTIMEZONE
END:VCALENDAR